BEGIN:VCALENDAR
VERSION:2.0
PRODID:-//Valley View Farm - ECPv6.8.1//NONSGML v1.0//EN
CALSCALE:GREGORIAN
METHOD:PUBLISH
X-WR-CALNAME:Valley View Farm
X-ORIGINAL-URL:https://valleyviewva.com
X-WR-CALDESC:Events for Valley View Farm
REFRESH-INTERVAL;VALUE=DURATION:PT1H
X-Robots-Tag:noindex
X-PUBLISHED-TTL:PT1H
BEGIN:VTIMEZONE
TZID:America/New_York
BEGIN:DAYLIGHT
TZOFFSETFROM:-0500
TZOFFSETTO:-0400
TZNAME:EDT
DTSTART:20230312T070000
END:DAYLIGHT
BEGIN:STANDARD
TZOFFSETFROM:-0400
TZOFFSETTO:-0500
TZNAME:EST
DTSTART:20231105T060000
END:STANDARD
END:VTIMEZONE
BEGIN:VEVENT
DTSTART;TZID=America/New_York:20231007T120000
DTEND;TZID=America/New_York:20231007T170000
DTSTAMP:20260423T175750
CREATED:20230407T160612Z
LAST-MODIFIED:20230407T160612Z
UID:11419-1696680000-1696698000@valleyviewva.com
SUMMARY:Dog Days on the Farm
DESCRIPTION:We welcome your four-legged family members 100% of the time but our dedicated Dog days are a great way for local dog owners to come together and let their fur babies make some new friends!\nBring your pup to receive 10% off farm market purchases and a treat for your furry friend! All dogs must well mannered\, leashed\, and waste disposed of in the proper receptacles.
URL:https://valleyviewva.com/event/dog-days-on-the-farm-17/
LOCATION:Valley View Farm\, 1550 Leeds Manor Road\, Delaplane\, VA\, 20144
CATEGORIES:Dog Events,Onsite Event
ATTACH;FMTTYPE=image/jpeg:https://valleyviewva.com/wp-content/uploads/2022/01/IMG_0680.jpeg
ORGANIZER;CN="Valley View Farm":MAILTO:info@valleyviewva.com
END:VEVENT
BEGIN:VEVENT
DTSTART;TZID=America/New_York:20231007T130000
DTEND;TZID=America/New_York:20231007T160000
DTSTAMP:20260423T175750
CREATED:20230407T160710Z
LAST-MODIFIED:20230407T160710Z
UID:11431-1696683600-1696694400@valleyviewva.com
SUMMARY:Valley View Hard Cider Challenge - 5k
DESCRIPTION:Come enjoy the challenging routes at Valley View Farm.  These courses are knotty\, knot nice at the farm as they are a mix of cross country\, trail\, and hills!  Runners may also redeem their drink ticket for sweet cider\, juice or soda. \nWalkers and leashed pets are welcome to attend this event. Now offering a virtual run option for those who cannot make it on race day.  You will receive a medal.\nRace Start Times \n\n5k – 1:00pm \nRegistration Fees \n5k – $35\, until Spetember 30th ($40) \nT-shirts guaranteed to runners registered before September 27.  We will order extra t-shirts for those who register after that date\, but it is on a first-come first-served basis. \nCourse Maps can be found here: \nhttps://bishopsevents.com/valley-view-farm/ \nPacket Pickup \n\n\nAt the event (one hour before the race starts) \n\n\nRace Day Registration \nThere will be race day registration. Participants will need to arrive around 45 minutes before the race to get registered for the event. T-shirts sizes can not be guaranteed for race day registers.
URL:https://valleyviewva.com/event/valley-view-hard-cider-challenge-5k/
LOCATION:Valley View Farm\, 1550 Leeds Manor Road\, Delaplane\, VA\, 20144
CATEGORIES:Race
ATTACH;FMTTYPE=image/png:https://valleyviewva.com/wp-content/uploads/2021/02/Screen-Shot-2021-02-24-at-1.27.43-PM.png
ORGANIZER;CN="Valley View Farm":MAILTO:info@valleyviewva.com
END:VEVENT
END:VCALENDAR