BEGIN:VCALENDAR
VERSION:2.0
PRODID:-//Valley View Farm - ECPv6.8.1//NONSGML v1.0//EN
CALSCALE:GREGORIAN
METHOD:PUBLISH
X-ORIGINAL-URL:https://valleyviewva.com
X-WR-CALDESC:Events for Valley View Farm
REFRESH-INTERVAL;VALUE=DURATION:PT1H
X-Robots-Tag:noindex
X-PUBLISHED-TTL:PT1H
BEGIN:VTIMEZONE
TZID:America/New_York
BEGIN:DAYLIGHT
TZOFFSETFROM:-0500
TZOFFSETTO:-0400
TZNAME:EDT
DTSTART:20230312T070000
END:DAYLIGHT
BEGIN:STANDARD
TZOFFSETFROM:-0400
TZOFFSETTO:-0500
TZNAME:EST
DTSTART:20231105T060000
END:STANDARD
END:VTIMEZONE
BEGIN:VEVENT
DTSTART;VALUE=DATE:20230901
DTEND;VALUE=DATE:20230905
DTSTAMP:20260425T091531
CREATED:20230407T160639Z
LAST-MODIFIED:20230407T160639Z
UID:11427-1693526400-1693871999@valleyviewva.com
SUMMARY:Labor Day Changes of Latitudes Sangriaville Weekend
DESCRIPTION:It’s an end of summer Sangriaville weekend!\nWear your South of the border parrot head shirts and receive a 10% discount on all items in the LocaVore market. \n$10 Howler and $15 Growler sangria refill specials the entire extended holiday weekend. Bring your own howler or growler to refill for only $5 more! \nFood Truck\, yard games\, and live music. \nCelebrate the end of summer with us!
URL:https://valleyviewva.com/event/labor-day-changes-of-latitudes-sangriaville-weekend-2/
LOCATION:Valley View Farm\, 1550 Leeds Manor Road\, Delaplane\, VA\, 20144
CATEGORIES:Discount Day,Holiday
ATTACH;FMTTYPE=image/jpeg:https://valleyviewva.com/wp-content/uploads/2022/02/IMG_0516.jpeg
ORGANIZER;CN="Valley View Farm":MAILTO:info@valleyviewva.com
END:VEVENT
END:VCALENDAR