BEGIN:VCALENDAR
VERSION:2.0
PRODID:-//Valley View Farm - ECPv6.8.1//NONSGML v1.0//EN
CALSCALE:GREGORIAN
METHOD:PUBLISH
X-ORIGINAL-URL:https://valleyviewva.com
X-WR-CALDESC:Events for Valley View Farm
REFRESH-INTERVAL;VALUE=DURATION:PT1H
X-Robots-Tag:noindex
X-PUBLISHED-TTL:PT1H
BEGIN:VTIMEZONE
TZID:America/New_York
BEGIN:DAYLIGHT
TZOFFSETFROM:-0500
TZOFFSETTO:-0400
TZNAME:EDT
DTSTART:20230312T070000
END:DAYLIGHT
BEGIN:STANDARD
TZOFFSETFROM:-0400
TZOFFSETTO:-0500
TZNAME:EST
DTSTART:20231105T060000
END:STANDARD
END:VTIMEZONE
BEGIN:VEVENT
DTSTART;VALUE=DATE:20230701
DTEND;VALUE=DATE:20230704
DTSTAMP:20260425T163537
CREATED:20230407T160634Z
LAST-MODIFIED:20230407T183941Z
UID:11426-1688169600-1688428799@valleyviewva.com
SUMMARY:Freedom\, Independence\, Liberty... Red\, White\, and Blue-berry!
DESCRIPTION:Join the VVF family for a festive holiday weekend.\nEnjoy yard games and blueberry sangria! \nWe thank those who have served and continue to serve our country. \n20% discount on bottles for all military\, ID required.
URL:https://valleyviewva.com/event/freedom-independence-liberty-red-white-and-blue-berry-2/
LOCATION:Valley View Farm\, 1550 Leeds Manor Road\, Delaplane\, VA\, 20144
CATEGORIES:Discount Day,Holiday
ATTACH;FMTTYPE=image/jpeg:https://valleyviewva.com/wp-content/uploads/2022/02/iStock-1148549628-1024x683-1.jpg
ORGANIZER;CN="Valley View Farm":MAILTO:info@valleyviewva.com
END:VEVENT
BEGIN:VEVENT
DTSTART;TZID=America/New_York:20230708T120000
DTEND;TZID=America/New_York:20230708T170000
DTSTAMP:20260425T163537
CREATED:20230407T160555Z
LAST-MODIFIED:20230407T160555Z
UID:11413-1688817600-1688835600@valleyviewva.com
SUMMARY:Dog Days on the Farm
DESCRIPTION:We welcome your four-legged family members 100% of the time but our dedicated Dog days are a great way for local dog owners to come together and let their fur babies make some new friends!\nBring your pup to receive 10% off farm market purchases and a treat for your furry friend! All dogs must well mannered\, leashed\, and waste disposed of in the proper receptacles.
URL:https://valleyviewva.com/event/dog-days-on-the-farm-11/
LOCATION:Valley View Farm\, 1550 Leeds Manor Road\, Delaplane\, VA\, 20144
CATEGORIES:Dog Events,Onsite Event
ATTACH;FMTTYPE=image/jpeg:https://valleyviewva.com/wp-content/uploads/2022/01/IMG_0654.jpeg
ORGANIZER;CN="Valley View Farm":MAILTO:info@valleyviewva.com
END:VEVENT
BEGIN:VEVENT
DTSTART;TZID=America/New_York:20230709T120000
DTEND;TZID=America/New_York:20230709T170000
DTSTAMP:20260425T163537
CREATED:20230407T160556Z
LAST-MODIFIED:20230407T160556Z
UID:11414-1688904000-1688922000@valleyviewva.com
SUMMARY:Dog Days on the Farm
DESCRIPTION:We welcome your four-legged family members 100% of the time but our dedicated Dog days are a great way for local dog owners to come together and let their fur babies make some new friends!\nBring your pup to receive 10% off farm market purchases and a treat for your furry friend! All dogs must well mannered\, leashed\, and waste disposed of in the proper receptacles.
URL:https://valleyviewva.com/event/dog-days-on-the-farm-12/
LOCATION:Valley View Farm\, 1550 Leeds Manor Road\, Delaplane\, VA\, 20144
CATEGORIES:Dog Events,Onsite Event
ATTACH;FMTTYPE=image/jpeg:https://valleyviewva.com/wp-content/uploads/2022/01/IMG_0654.jpeg
ORGANIZER;CN="Valley View Farm":MAILTO:info@valleyviewva.com
END:VEVENT
END:VCALENDAR